BEGIN:VCALENDAR
VERSION:2.0
PRODID:-//Foreign Correspondents&#039; Club of China - ECPv6.15.20//NONSGML v1.0//EN
CALSCALE:GREGORIAN
METHOD:PUBLISH
X-WR-CALNAME:Foreign Correspondents&#039; Club of China
X-ORIGINAL-URL:https://fccchina.org
X-WR-CALDESC:Events for Foreign Correspondents&#039; Club of China
REFRESH-INTERVAL;VALUE=DURATION:PT1H
X-Robots-Tag:noindex
X-PUBLISHED-TTL:PT1H
BEGIN:VTIMEZONE
TZID:Asia/Shanghai
BEGIN:STANDARD
TZOFFSETFROM:+0800
TZOFFSETTO:+0800
TZNAME:CST
DTSTART:20220101T000000
END:STANDARD
END:VTIMEZONE
BEGIN:VEVENT
DTSTART;TZID=Asia/Shanghai:20230922T100000
DTEND;TZID=Asia/Shanghai:20230922T113000
DTSTAMP:20260423T053124
CREATED:20230919T110312Z
LAST-MODIFIED:20230921T034243Z
UID:16151-1695376800-1695382200@fccchina.org
SUMMARY:FCCC Online Event: Digital Empires: The Global Battle to Regulate Technology
DESCRIPTION:The global battle among the three dominant digital powers—the  United States\, China\, and the European Union—is intensifying. All three regimes are racing to regulate tech companies\, with each advancing a competing vision for the digital economy while attempting to expand its sphere of influence in the digital world. Join us for a discussion with Professor Bradford on her new book\, Digital Empires: The Global Battle to Regulate Technology\, where she explores a rivalry that will shape the world in the decades to come. \nAbout our speaker:\nAnu Bradford is Henry L. Moses Professor of Law and International Organizations at Columbia Law School. She is also a director for Columbia’s European Legal Studies Center and a Senior Scholar at Jerome A. Chazen Institute for Global Business at Columbia Business School. She is an expert on international trade law\, European Union law\, digital regulation\, and comparative and international antitrust law. Bradford is the author of “The Brussels Effect: How the European Union Rules the World”\, which was named one of the Best Books of 2020 by Foreign Affairs.
URL:https://fccchina.org/event/fccc-online-event-digital-empires-the-global-battle-to-regulate-technology/
LOCATION:Google Meet
CATEGORIES:Events,Online Talk
ORGANIZER;CN="FCCC":MAILTO:fcccadmin@gmail.com
END:VEVENT
BEGIN:VEVENT
DTSTART;TZID=Asia/Shanghai:20230923T150000
DTEND;TZID=Asia/Shanghai:20230923T200000
DTSTAMP:20260423T053124
CREATED:20230821T085100Z
LAST-MODIFIED:20230921T034200Z
UID:15894-1695481200-1695499200@fccchina.org
SUMMARY:FCCC 2023 SUMMER PARTY
DESCRIPTION:The FCCC 2023 Summer Party will be a family-friendly daytime event in the beautiful embassy garden\, with entertainment for kids\, delicious food\, and free-flow of drinks – and this year\, we’ll also have live music! A great opportunity to reconnect with colleagues and friends of the FCCC.\n\n\n\n\n\n\n\n\n\n\nEarly bird tickets available until September 10th\nFCCC Members: 230\nFCCC Guest: 280\nYouth: 150\nKids: free
URL:https://fccchina.org/event/fccc-2023-summer-party/
LOCATION:Embassy of Poland\, 1 Ritan Rd\, Beijing\, Chaoyang Park\, 100005\, China
CATEGORIES:Events,Summer Party
ATTACH;FMTTYPE=image/jpeg:https://fccchina.org/wp-content/uploads/2023/08/FCCC-2023-SUMMER-PARTY-1.jpg
ORGANIZER;CN="FCCC":MAILTO:fcccadmin@gmail.com
END:VEVENT
END:VCALENDAR