BEGIN:VCALENDAR
VERSION:2.0
PRODID:-//Foreign Correspondents&#039; Club of China - ECPv6.15.20//NONSGML v1.0//EN
CALSCALE:GREGORIAN
METHOD:PUBLISH
X-ORIGINAL-URL:https://fccchina.org
X-WR-CALDESC:Events for Foreign Correspondents&#039; Club of China
REFRESH-INTERVAL;VALUE=DURATION:PT1H
X-Robots-Tag:noindex
X-PUBLISHED-TTL:PT1H
BEGIN:VTIMEZONE
TZID:Asia/Shanghai
BEGIN:STANDARD
TZOFFSETFROM:+0800
TZOFFSETTO:+0800
TZNAME:CST
DTSTART:20200101T000000
END:STANDARD
END:VTIMEZONE
BEGIN:VEVENT
DTSTART;TZID=Asia/Shanghai:20211028T160000
DTEND;TZID=Asia/Shanghai:20211028T173000
DTSTAMP:20260426T121615
CREATED:20211023T012508Z
LAST-MODIFIED:20220413T112423Z
UID:9775-1635436800-1635442200@fccchina.org
SUMMARY:FCCC Talk: China\, Climate\, and Coal by Li Shuo
DESCRIPTION:IN-PERSON EVENT: China\, Climate\, and Coal\nJoin us in-person at the Brazilian Embassy to discuss the latest on China’s quest to move away from carbon-based fuels. The country has just hosted the first half of COP15. But it also is suffering power shortages driven by an over-reliance on coal. How can China navigate the painful transition to clean energy? \nAbout the speaker: Li Shuo is the Senior Climate & Energy Policy Officer for Greenpeace East Asia. He oversees Greenpeace’s work on air pollution\, water\, and renewable energy. He is a frequent speaker at international climate conferences. \nWhen: October 28\, 4-5:30 PM\nWhere: Brazilian Embassy in Beijing\n光华路27号\n27 Guanghua Road\nRSVP by October 27th to fcccadmin@gmail.com
URL:https://fccchina.org/event/fccc-talk-li-shuo/
LOCATION:Chaoyang Park
CATEGORIES:Events,In-person Talk
END:VEVENT
END:VCALENDAR