BEGIN:VCALENDAR
VERSION:2.0
PRODID:-//Foreign Correspondents&#039; Club of China - ECPv6.15.20//NONSGML v1.0//EN
CALSCALE:GREGORIAN
METHOD:PUBLISH
X-ORIGINAL-URL:https://fccchina.org
X-WR-CALDESC:Events for Foreign Correspondents&#039; Club of China
REFRESH-INTERVAL;VALUE=DURATION:PT1H
X-Robots-Tag:noindex
X-PUBLISHED-TTL:PT1H
BEGIN:VTIMEZONE
TZID:Asia/Shanghai
BEGIN:STANDARD
TZOFFSETFROM:+0800
TZOFFSETTO:+0800
TZNAME:CST
DTSTART:20200101T000000
END:STANDARD
END:VTIMEZONE
BEGIN:VEVENT
DTSTART;TZID=Asia/Shanghai:20211115T160000
DTEND;TZID=Asia/Shanghai:20211115T170000
DTSTAMP:20260426T101928
CREATED:20211104T064948Z
LAST-MODIFIED:20220413T112355Z
UID:9798-1636992000-1636995600@fccchina.org
SUMMARY:FCCC Talk: China’s hold on data by Kendra Schaefer
DESCRIPTION:IN PERSON EVENT: China’s hold on data\nJoin us in person for a talk on China’s overall data strategy. In the last few months\, China has enacted sweeping data storage and privacy regulations that in many cases surpass similar policies proposed in Europe and North America. How should we make sense of these new rules? What are their ultimate aims and how do we see firms shifting to comply?\nABOUT OUR SPEAKER: Kendra Schaefer is head of Tech Policy Research at the consultancy Trivium China. She focuses on Chinese data infrastructure policies and is based in Beijing.\nWHERE: Belgian Embassy in Beijing\nSanlitun Dongsan Jie 3\, 100600 Chaoyang\, Beijing | 三里屯东三街3号朝阳区北京市\nWHEN: Monday November 15\, 2021 from 4-5 PM\nRSVP to fcccadmin@gmail.com
URL:https://fccchina.org/event/fccc-talk-chinas-hold-on-data-by-kendra-schaefer/
LOCATION:Chaoyang Park
CATEGORIES:Events,In-person Talk
END:VEVENT
BEGIN:VEVENT
DTSTART;TZID=Asia/Shanghai:20211129T180000
DTEND;TZID=Asia/Shanghai:20211129T193000
DTSTAMP:20260426T101928
CREATED:20211122T113818Z
LAST-MODIFIED:20220413T112304Z
UID:10321-1638208800-1638214200@fccchina.org
SUMMARY:FCCC Talk: Working with North Korea
DESCRIPTION:For years\, Koryo Group has ferried people into North Korea\, working with a variety of North Korean organizations and individuals in tourism\, sports\, and culture. The reality of working on the ground can be very different than the general assumptions Westerners hold regarding the Hermit Kingdom and its autocratic ruling family\, the Kims. Koryo’s general manager walks us through the surprisingly diverse experiences of dealing with North Koreans. \nDrinks and pizza will be provided by our generous Dutch Embassy hosts. \nABOUT OUR SPEAKER: Simon Cockerell is the general manager for Koryo Tours. He moved to Beijing in 2000 and has made over 175 trips to North Korea since then.
URL:https://fccchina.org/event/fccc-talk-working-with-north-korea/
LOCATION:Dutch Embassy\, Beijing\, China
CATEGORIES:Events,In-person Talk
ORGANIZER;CN="FCCC":MAILTO:fcccadmin@gmail.com
END:VEVENT
END:VCALENDAR