BEGIN:VCALENDAR
VERSION:2.0
PRODID:-//Foreign Correspondents&#039; Club of China - ECPv6.15.20//NONSGML v1.0//EN
CALSCALE:GREGORIAN
METHOD:PUBLISH
X-ORIGINAL-URL:https://fccchina.org
X-WR-CALDESC:Events for Foreign Correspondents&#039; Club of China
REFRESH-INTERVAL;VALUE=DURATION:PT1H
X-Robots-Tag:noindex
X-PUBLISHED-TTL:PT1H
BEGIN:VTIMEZONE
TZID:Asia/Shanghai
BEGIN:STANDARD
TZOFFSETFROM:+0800
TZOFFSETTO:+0800
TZNAME:CST
DTSTART:20220101T000000
END:STANDARD
END:VTIMEZONE
BEGIN:VEVENT
DTSTART;TZID=Asia/Shanghai:20230503T160000
DTEND;TZID=Asia/Shanghai:20230503T173000
DTSTAMP:20260425T034259
CREATED:20230424T041858Z
LAST-MODIFIED:20230501T235334Z
UID:15400-1683129600-1683135000@fccchina.org
SUMMARY:FCCC In-person Talk: Andrew Batson\, China Research Director at Gavekal Dragonomics China’s economy after Covid: On the road to recovery?
DESCRIPTION:China’s economy grew by 4\,5 % during the first quarter of the year\, stronger than most analysts had expected. The recovery was mainly driven by private consumption and an expansion of the service sector. But a closer look at the data reveals that a stable recovery of the Chinese economy is far from certain. Investment and production are still relatively weak and youth unemployment climbed to 19\,6 % in March\, which is an indicator of a still struggling private sector. Private enterprises account for roughly 80 % of urban employment. \nAndrew Batson will give us a deeper insight into China’s political economy and help us understand the dynamics of the Chinese economy in 2023. \nAbout the speaker: Andrew Batson is China Research Director at Gavekal Dragonomics. Andrew has worked extensively on the Chinese economy. Before joining Gavekal Dragonomics he worked as a reporter in Beijing and once served on the board of the FCCC.
URL:https://fccchina.org/event/fccc-in-person-talk-andrew-batson-china-research-director-at-gavekal-dragonomics-chinas-economy-after-covid-on-the-road-to-recovery/
LOCATION:Embassy of Australia\, Dongzhimenwai Street\, Beijing\, China
CATEGORIES:Events,In-person Talk
ORGANIZER;CN="FCCC":MAILTO:fcccadmin@gmail.com
END:VEVENT
BEGIN:VEVENT
DTSTART;TZID=Asia/Shanghai:20230522T173000
DTEND;TZID=Asia/Shanghai:20230522T190000
DTSTAMP:20260425T034259
CREATED:20230505T091218Z
LAST-MODIFIED:20230522T030954Z
UID:15491-1684776600-1684782000@fccchina.org
SUMMARY:FCCC In-person Event: Looking back on three decades of doing business in China by Jörg Wuttke
DESCRIPTION:Jörg Wuttke has been one of the most outspoken voices of the European business community in China. When it came to deficits and shortcomings of the investment climate in China he seldom minced his words. “Level playing field” and “equal treatment of local and foreign companies” became some of his most widely used terms. During the pandemic Jörg became one of the fiercest critics of the Zero-Covid policy. And his words rarely fell on deaf ears with the Chinese authorities. Government officials would listen to him and always treated him with respect. In his position Jörg also became an important mediator between the European business community in China and EU institutions in Brussels. After three stints as President of the EUCCC Jörg will step down on May 24th. After three decades of living and working in China he will leave the country in 2024. \nDuring the talk Jörg will look back on highs as well as on lows during his stay in China and will give his personal outlook for the economy of China\, where business for foreign companies has seldom been as difficult as it is today. \nAbout the speaker: Jörg Wuttke is President of the European Union Chamber of Commerce in China\, an office he has held already from 2007 to 2010\, and 2014 to 2017 and again since May 2019. From 2001 to 2004 Mr. Wuttke was the Chairman of the German Chamber of Commerce in China. Since its establishment in 2013\, Mr. Wuttke is member of the Advisory Board of Germany’s foremost Think Tank on China\, Mercator Institute for China Studies (MERICS)\, in Berlin. He lived in China for more than 30 years.
URL:https://fccchina.org/event/fccc-in-person-event-looking-back-on-three-decades-of-doing-business-in-china-by-jorg-wuttke/
LOCATION:Germany Embassy in Beijing\, 17 Dongzhimen Outer Street/东直门外大街17号\, Beijing\, beijing\, 100027\, China
CATEGORIES:Events,In-person Talk
ORGANIZER;CN="FCCC":MAILTO:fcccadmin@gmail.com
END:VEVENT
END:VCALENDAR