BEGIN:VCALENDAR
VERSION:2.0
PRODID:-//Foreign Correspondents&#039; Club of China - ECPv6.15.20//NONSGML v1.0//EN
CALSCALE:GREGORIAN
METHOD:PUBLISH
X-ORIGINAL-URL:https://fccchina.org
X-WR-CALDESC:Events for Foreign Correspondents&#039; Club of China
REFRESH-INTERVAL;VALUE=DURATION:PT1H
X-Robots-Tag:noindex
X-PUBLISHED-TTL:PT1H
BEGIN:VTIMEZONE
TZID:Asia/Shanghai
BEGIN:STANDARD
TZOFFSETFROM:+0800
TZOFFSETTO:+0800
TZNAME:CST
DTSTART:20220101T000000
END:STANDARD
END:VTIMEZONE
BEGIN:VEVENT
DTSTART;TZID=Asia/Shanghai:20230705T100000
DTEND;TZID=Asia/Shanghai:20230705T113000
DTSTAMP:20260424T235549
CREATED:20230619T080025Z
LAST-MODIFIED:20230620T041258Z
UID:15833-1688551200-1688556600@fccchina.org
SUMMARY:FCCC In-person Talk: "Empires of Ideas: the Future of Universities in China and in Hong Kong"
DESCRIPTION:Professor Kirby will give a talk to Club members based around his new book: Empires of Ideas and focused on ‘The Future of Universities in China and in Hong Kong’. He will also address in detail US-China-HK relations and the political pressures on education and business in this difficult time. \nAbout the speaker: Professor William Kirby\, is the Spangler Family Professor of Business Administration at Harvard Business School and T. M. Chang Professor of China Studies at Harvard University. He is a University Distinguished Service Professor. Professor Kirby serves as Chairman of the Harvard China Fund\, the University’s academic venture fund for China\, and Faculty Chair of the Harvard Center Shanghai\, Harvard’s first University-wide center located outside the United States. \n 
URL:https://fccchina.org/event/fccc-in-person-talk-empires-of-ideas-the-future-of-universities-in-china-and-in-hong-kong/
LOCATION:Embassy near Sanlitun\, Beijing\, China
CATEGORIES:Events,In-person Talk
ORGANIZER;CN="FCCC":MAILTO:fcccadmin@gmail.com
END:VEVENT
END:VCALENDAR