BEGIN:VCALENDAR
VERSION:2.0
PRODID:-//Foreign Correspondents&#039; Club of China - ECPv6.15.20//NONSGML v1.0//EN
CALSCALE:GREGORIAN
METHOD:PUBLISH
X-ORIGINAL-URL:https://fccchina.org
X-WR-CALDESC:Events for Foreign Correspondents&#039; Club of China
REFRESH-INTERVAL;VALUE=DURATION:PT1H
X-Robots-Tag:noindex
X-PUBLISHED-TTL:PT1H
BEGIN:VTIMEZONE
TZID:Asia/Shanghai
BEGIN:STANDARD
TZOFFSETFROM:+0800
TZOFFSETTO:+0800
TZNAME:CST
DTSTART:20230101T000000
END:STANDARD
END:VTIMEZONE
BEGIN:VEVENT
DTSTART;TZID=Asia/Shanghai:20240320T133000
DTEND;TZID=Asia/Shanghai:20240320T143000
DTSTAMP:20260422T131714
CREATED:20240315T035719Z
LAST-MODIFIED:20240318T071249Z
UID:17579-1710941400-1710945000@fccchina.org
SUMMARY:FCCC In-person Talk: US-China Relations: How Stable and How Fragile? by Scott Kennedy
DESCRIPTION:Scott Kennedy\, a veteran China expert from the Center for Strategic & International Studies\, a DC think tank\, will analyze the reasons for the current stability in U.S.-China relations and the potential sources of instability going forward. \nAbout our speaker: Scott Kennedy is Senior Adviser and Trustee Chair in Chinese Business and Economics at the Center for Strategic and International Studies (CSIS). A leading authority on Chinese economic policy\, Kennedy has been traveling to China for over 30 years. His areas of expertise include industrial policy\, technology innovation\, business lobbying\, U.S.-China commercial relations\, and global governance.
URL:https://fccchina.org/event/fccc-in-person-talk-us-china-relations-how-stable-and-how-fragile-by-scott-kennedy/
LOCATION:Embassy near Sanlitun\, Beijing\, China
CATEGORIES:Events,In-person Talk
ORGANIZER;CN="FCCC":MAILTO:fcccadmin@gmail.com
END:VEVENT
END:VCALENDAR