BEGIN:VCALENDAR
VERSION:2.0
PRODID:-//Foreign Correspondents&#039; Club of China - ECPv6.15.20//NONSGML v1.0//EN
CALSCALE:GREGORIAN
METHOD:PUBLISH
X-WR-CALNAME:Foreign Correspondents&#039; Club of China
X-ORIGINAL-URL:https://fccchina.org
X-WR-CALDESC:Events for Foreign Correspondents&#039; Club of China
REFRESH-INTERVAL;VALUE=DURATION:PT1H
X-Robots-Tag:noindex
X-PUBLISHED-TTL:PT1H
BEGIN:VTIMEZONE
TZID:Asia/Shanghai
BEGIN:STANDARD
TZOFFSETFROM:+0800
TZOFFSETTO:+0800
TZNAME:CST
DTSTART:20230101T000000
END:STANDARD
END:VTIMEZONE
BEGIN:VEVENT
DTSTART;TZID=Asia/Shanghai:20240919T100000
DTEND;TZID=Asia/Shanghai:20240919T113000
DTSTAMP:20260422T031619
CREATED:20240911T113255Z
LAST-MODIFIED:20240918T083423Z
UID:18382-1726740000-1726745400@fccchina.org
SUMMARY:FCCC In-person Talk: Great Game On - The Contest for Central Asia and Global Supremacy with Geoff Raby
DESCRIPTION:What happens when China becomes the established\, stable\, dominant power in Eurasia? Australia’s former ambassador to China Geoff Raby takes the reader on a journey across Eurasia to understand the forces shaping its geopolitics. The analysis is enriched by Raby’s own travel stories\, experiences and adventures into the fabric of his narrative. Great Game On is the story of the remaking of the world order. \n About our speaker: Geoff Raby was Australia’s ambassador to China (2007–11); ambassador to APEC (2003– 05); and ambassador to the World Trade Organization (1998–2001). Since leaving government service he has been a regular columnist on China and Eurasia for The Australian Financial Review\, travel writer and a non-executive\, independent company director. His last book was China’s Grand Strategy (2020). Raby was awarded the Order of Australia in 2019 for services to Australia–China relations and international trade.
URL:https://fccchina.org/event/fccc-in-person-talk-great-game-on-the-contest-for-central-asia-and-global-supremacy-with-geoff-raby/
LOCATION:Embassy near Sanlitun\, Beijing\, China
CATEGORIES:Events,In-person Talk
ORGANIZER;CN="FCCC":MAILTO:fcccadmin@gmail.com
END:VEVENT
END:VCALENDAR