BEGIN:VCALENDAR
VERSION:2.0
PRODID:-//Foreign Correspondents&#039; Club of China - ECPv6.15.20//NONSGML v1.0//EN
CALSCALE:GREGORIAN
METHOD:PUBLISH
X-WR-CALNAME:Foreign Correspondents&#039; Club of China
X-ORIGINAL-URL:https://fccchina.org
X-WR-CALDESC:Events for Foreign Correspondents&#039; Club of China
REFRESH-INTERVAL;VALUE=DURATION:PT1H
X-Robots-Tag:noindex
X-PUBLISHED-TTL:PT1H
BEGIN:VTIMEZONE
TZID:Asia/Shanghai
BEGIN:STANDARD
TZOFFSETFROM:+0800
TZOFFSETTO:+0800
TZNAME:CST
DTSTART:20250101T000000
END:STANDARD
END:VTIMEZONE
BEGIN:VEVENT
DTSTART;TZID=Asia/Shanghai:20260418T120000
DTEND;TZID=Asia/Shanghai:20260418T160000
DTSTAMP:20260421T233214
CREATED:20260331T070504Z
LAST-MODIFIED:20260417T205149Z
UID:22252-1776513600-1776528000@fccchina.org
SUMMARY:CANCELLED FCCC Spring Party 2026
DESCRIPTION:Join the FCCC for a vibrant Spring Party on April 18 at 12:00 PM! We’ll be gathering at Susu Longfusi for a delicious Vietnamese buffet lunch\, complete with free-flow soft drinks\, beer\, and wine. The entire second floor will be reserved exclusively for our group\, creating the perfect setting to relax\, connect\, and celebrate the season together. \nAfter lunch\, those who wish to keep the festivities going are welcome to continue at nearby Jing A Longfusi. \nTICKETS\nEarly Bird prices (until April 8):\nFCCC Members: 240 RMB\nGuests: 280 RMB \nLate prices:\nFCCC Members: 280 RMB\nGuests: 320 RMB \nYouth (14-17): 140 RMB\nChildren (under 14): Free
URL:https://fccchina.org/event/fccc-spring-party-2026/
LOCATION:SUSU (Longfusi)\, 38 Qianliang Hutong\, Dongcheng\, Beijing\, China
CATEGORIES:Events,Spring Party
ORGANIZER;CN="FCCC":MAILTO:fcccadmin@gmail.com
END:VEVENT
BEGIN:VEVENT
DTSTART;TZID=Asia/Shanghai:20260521T180000
DTEND;TZID=Asia/Shanghai:20260521T200000
DTSTAMP:20260421T233214
CREATED:20260420T093147Z
LAST-MODIFIED:20260420T093407Z
UID:22256-1779386400-1779393600@fccchina.org
SUMMARY:FCCC Annual General Meeting 2026
DESCRIPTION:Our Annual General Meeting (AGM) will be on May 21 at 6:00 PM at an embassy in the Dongzhimen area. This is our most important meeting of the year. We will reflect on the past year and\, most importantly\, elect our next board. \nFor correspondent members who wish to participate virtually\, the meeting will also be streamed online. \nRSVP to attend in-person\, online\, or request an absentee ballot below to receive event details.
URL:https://fccchina.org/event/fccc-annual-general-meeting-2026/
LOCATION:Embassy near Sanlitun\, Beijing\, China
CATEGORIES:AGM,Events
ORGANIZER;CN="FCCC":MAILTO:fcccadmin@gmail.com
END:VEVENT
END:VCALENDAR